BEGIN:VCALENDAR
VERSION:2.0
PRODID:-//Diocese de Araçuaí - ECPv6.15.18//NONSGML v1.0//EN
CALSCALE:GREGORIAN
METHOD:PUBLISH
X-WR-CALNAME:Diocese de Araçuaí
X-ORIGINAL-URL:https://diocesedearacuai.com.br
X-WR-CALDESC:Eventos para Diocese de Araçuaí
REFRESH-INTERVAL;VALUE=DURATION:PT1H
X-Robots-Tag:noindex
X-PUBLISHED-TTL:PT1H
BEGIN:VTIMEZONE
TZID:UTC
BEGIN:STANDARD
TZOFFSETFROM:+0000
TZOFFSETTO:+0000
TZNAME:UTC
DTSTART:20250101T000000
END:STANDARD
END:VTIMEZONE
BEGIN:VEVENT
DTSTART;TZID=UTC:20260411T080000
DTEND;TZID=UTC:20260412T170000
DTSTAMP:20260423T220936
CREATED:20260331T194739Z
LAST-MODIFIED:20260331T194739Z
UID:12645-1775894400-1776013200@diocesedearacuai.com.br
SUMMARY:Reunião Diocesana da Pastoral Familiar
DESCRIPTION:
URL:https://diocesedearacuai.com.br/event/reuniao-diocesana/
LOCATION:Centro Diocesano de Pastoral – Araçuaí-MG\, Rua Goiás 339\, Araçuaí\, Minas Gerais\, 39600-000\, Brazil
END:VEVENT
END:VCALENDAR