BEGIN:VCALENDAR
VERSION:2.0
PRODID:-//Diocese de Araçuaí - ECPv6.15.18//NONSGML v1.0//EN
CALSCALE:GREGORIAN
METHOD:PUBLISH
X-ORIGINAL-URL:https://diocesedearacuai.com.br
X-WR-CALDESC:Eventos para Diocese de Araçuaí
REFRESH-INTERVAL;VALUE=DURATION:PT1H
X-Robots-Tag:noindex
X-PUBLISHED-TTL:PT1H
BEGIN:VTIMEZONE
TZID:UTC
BEGIN:STANDARD
TZOFFSETFROM:+0000
TZOFFSETTO:+0000
TZNAME:UTC
DTSTART:20240101T000000
END:STANDARD
END:VTIMEZONE
BEGIN:VEVENT
DTSTART;TZID=UTC:20251129T110000
DTEND;TZID=UTC:20251130T120000
DTSTAMP:20260424T050908
CREATED:20251121T154132Z
LAST-MODIFIED:20251121T154132Z
UID:12327-1764414000-1764504000@diocesedearacuai.com.br
SUMMARY:Encontro Diocesano da Pastoral do Migrante
DESCRIPTION:
URL:https://diocesedearacuai.com.br/event/encontro-diocesano-da-pastoral-do-migrante/
LOCATION:Centro Diocesano de Pastoral – Araçuaí-MG\, Rua Goiás 339\, Araçuaí\, Minas Gerais\, 39600-000\, Brazil
ORGANIZER;CN="Pastoral do Migrante":MAILTO:https://docs.google.com/forms/d/e/1FAIpQLSe_J0rQU_hrv__OFZLjKBVem-7gu4CzibImBJCr6lmdpTZS2g/viewform?usp=header
END:VEVENT
END:VCALENDAR