BEGIN:VCALENDAR
VERSION:2.0
PRODID:-//Diocese de Araçuaí - ECPv6.15.18//NONSGML v1.0//EN
CALSCALE:GREGORIAN
METHOD:PUBLISH
X-ORIGINAL-URL:https://diocesedearacuai.com.br
X-WR-CALDESC:Eventos para Diocese de Araçuaí
REFRESH-INTERVAL;VALUE=DURATION:PT1H
X-Robots-Tag:noindex
X-PUBLISHED-TTL:PT1H
BEGIN:VTIMEZONE
TZID:UTC
BEGIN:STANDARD
TZOFFSETFROM:+0000
TZOFFSETTO:+0000
TZNAME:UTC
DTSTART:20240101T000000
END:STANDARD
END:VTIMEZONE
BEGIN:VEVENT
DTSTART;TZID=UTC:20251120T150000
DTEND;TZID=UTC:20251120T190000
DTSTAMP:20260424T072331
CREATED:20251103T141510Z
LAST-MODIFIED:20251103T141510Z
UID:12164-1763650800-1763665200@diocesedearacuai.com.br
SUMMARY:Jubileu Diocesano dos Povos Tradicionais
DESCRIPTION:
URL:https://diocesedearacuai.com.br/event/jubileu-diocesano-dos-povos-tradicionais/
LOCATION:Chapada do Norte
END:VEVENT
END:VCALENDAR