BEGIN:VCALENDAR
VERSION:2.0
PRODID:-//Diocese de Araçuaí - ECPv6.15.18//NONSGML v1.0//EN
CALSCALE:GREGORIAN
METHOD:PUBLISH
X-WR-CALNAME:Diocese de Araçuaí
X-ORIGINAL-URL:https://diocesedearacuai.com.br
X-WR-CALDESC:Eventos para Diocese de Araçuaí
REFRESH-INTERVAL;VALUE=DURATION:PT1H
X-Robots-Tag:noindex
X-PUBLISHED-TTL:PT1H
BEGIN:VTIMEZONE
TZID:UTC
BEGIN:STANDARD
TZOFFSETFROM:+0000
TZOFFSETTO:+0000
TZNAME:UTC
DTSTART:20240101T000000
END:STANDARD
END:VTIMEZONE
BEGIN:VEVENT
DTSTART;TZID=UTC:20251115T170000
DTEND;TZID=UTC:20251115T190000
DTSTAMP:20260424T072301
CREATED:20250819T034332Z
LAST-MODIFIED:20250819T034338Z
UID:11676-1763226000-1763233200@diocesedearacuai.com.br
SUMMARY:Ordenação Presbiteral - Diácono Bruno Monteiro
DESCRIPTION:
URL:https://diocesedearacuai.com.br/event/ordenacao-presbiteral-diacono-bruno-monteiro/
LOCATION:Santuário Diocesana – Virgem da Lapa-MG\, Rua: Nossa Senhora da Lapa\, Virgem da Lapa\, Minas Gerais\, Brazil
END:VEVENT
END:VCALENDAR