BEGIN:VCALENDAR
VERSION:2.0
PRODID:-//Diocese de Araçuaí - ECPv6.15.18//NONSGML v1.0//EN
CALSCALE:GREGORIAN
METHOD:PUBLISH
X-ORIGINAL-URL:https://diocesedearacuai.com.br
X-WR-CALDESC:Eventos para Diocese de Araçuaí
REFRESH-INTERVAL;VALUE=DURATION:PT1H
X-Robots-Tag:noindex
X-PUBLISHED-TTL:PT1H
BEGIN:VTIMEZONE
TZID:UTC
BEGIN:STANDARD
TZOFFSETFROM:+0000
TZOFFSETTO:+0000
TZNAME:UTC
DTSTART:20240101T000000
END:STANDARD
END:VTIMEZONE
BEGIN:VEVENT
DTSTART;TZID=UTC:20250818T080000
DTEND;TZID=UTC:20250822T170000
DTSTAMP:20260424T125359
CREATED:20250819T001921Z
LAST-MODIFIED:20250819T001921Z
UID:11660-1755504000-1755882000@diocesedearacuai.com.br
SUMMARY:Retiro do Clero
DESCRIPTION:
URL:https://diocesedearacuai.com.br/event/retiro-do-clero/
LOCATION:Coronel Fabriciano-MG
END:VEVENT
END:VCALENDAR