BEGIN:VCALENDAR
VERSION:2.0
PRODID:-//Diocese de Araçuaí - ECPv6.15.18//NONSGML v1.0//EN
CALSCALE:GREGORIAN
METHOD:PUBLISH
X-WR-CALNAME:Diocese de Araçuaí
X-ORIGINAL-URL:https://diocesedearacuai.com.br
X-WR-CALDESC:Eventos para Diocese de Araçuaí
REFRESH-INTERVAL;VALUE=DURATION:PT1H
X-Robots-Tag:noindex
X-PUBLISHED-TTL:PT1H
BEGIN:VTIMEZONE
TZID:UTC
BEGIN:STANDARD
TZOFFSETFROM:+0000
TZOFFSETTO:+0000
TZNAME:UTC
DTSTART:20240101T000000
END:STANDARD
END:VTIMEZONE
BEGIN:VEVENT
DTSTART;VALUE=DATE:20250815
DTEND;VALUE=DATE:20250816
DTSTAMP:20260424T125311
CREATED:20250803T003733Z
LAST-MODIFIED:20250803T003733Z
UID:11535-1755216000-1755302399@diocesedearacuai.com.br
SUMMARY:Jubileu das Famílias e Festa de N. Sra. da Lapa
DESCRIPTION:Com o tema “Senhora da Lapa\, ensinai nossas famílias a serem peregrinas da esperança” e lema “Fazei tudo o que ele vos disser” (Jo 2\,5)\, o Jubileu das Famílias 2025 acontecerá na Paróquia São Domingos\, em Virgem da Lapa-MG. A data é mais do que simbólica e especial: no dia 15 de Agosto\, sexta-feira\, dia dedicado à padroeira de nossa Diocese. A programação inicia-se com a concentração ás 08h em frente à Igreja Matriz de São Domingos de Gusmão. Em seguida\, será realizada uma peregrinação até o Santuário Diocesano de Nossa Senhora da Lapa\, concluindo com a Celebração Eucarística presidida por Dom Geraldo Maia\, bispo diocesano.
URL:https://diocesedearacuai.com.br/event/jubileu-das-familias-e-festa-de-n-sra-da-lapa/
LOCATION:Santuário Diocesano de Nossa Senhora da Lapa\, Virgem da Lapa\, Brazil
END:VEVENT
END:VCALENDAR