BEGIN:VCALENDAR
VERSION:2.0
PRODID:-//Diocese de Araçuaí - ECPv6.15.18//NONSGML v1.0//EN
CALSCALE:GREGORIAN
METHOD:PUBLISH
X-WR-CALNAME:Diocese de Araçuaí
X-ORIGINAL-URL:https://diocesedearacuai.com.br
X-WR-CALDESC:Eventos para Diocese de Araçuaí
REFRESH-INTERVAL;VALUE=DURATION:PT1H
X-Robots-Tag:noindex
X-PUBLISHED-TTL:PT1H
BEGIN:VTIMEZONE
TZID:UTC
BEGIN:STANDARD
TZOFFSETFROM:+0000
TZOFFSETTO:+0000
TZNAME:UTC
DTSTART:20240101T000000
END:STANDARD
END:VTIMEZONE
BEGIN:VEVENT
DTSTART;TZID=UTC:20250813T190000
DTEND;TZID=UTC:20250813T210000
DTSTAMP:20260424T125312
CREATED:20250722T023414Z
LAST-MODIFIED:20250722T193414Z
UID:11358-1755111600-1755118800@diocesedearacuai.com.br
SUMMARY:Missa em Ação de Graças - 25 anos de Ordenação Presbiteral de Pe. José Paulino
DESCRIPTION:
URL:https://diocesedearacuai.com.br/event/missa-em-acao-de-gracas-25-anos-de-ordenacao-presbiteral-de-pe-jose-paulino/
LOCATION:Catedral de Araçuaí-MG
END:VEVENT
END:VCALENDAR